BEGIN:VCALENDAR
VERSION:2.0
PRODID:-//ChamberMaster//Event Calendar 2.0//EN
METHOD:PUBLISH
X-PUBLISHED-TTL:P3D
REFRESH-INTERVAL:P3D
CALSCALE:GREGORIAN
BEGIN:VEVENT
DTSTART:20201126T080000Z
DTEND:20201126T080000Z
X-MICROSOFT-CDO-ALLDAYEVENT:FALSE
SUMMARY:2020 Shepherd's Gate Holiday Programs
DESCRIPTION:Shepherd's Gate is a local long-term shelter recovery program located in Livermore and Brentwood to care for women and children that are experiencing homelessness\, poverty\, addiction and domestic violence. Each Christmas season\, individuals and companies join together to grant Christmas wishes to our women and children. This holiday\, checkout our website to see how you can become a Christmas angel to those in need   www.shepherdsgate.org/christmas.  Gifts will need to be delivered by December 17th to either the Brentwood Campus at 605 Sycamore Ave\, Brentwood\, CA 94513 or the Livermore Campus at 1660 Portola Avenue\, Livermore\, CA 94551.
X-ALT-DESC;FMTTYPE=text/html:Shepherd&rsquo\;s Gate is a local long-term shelter recovery program located in Livermore and Brentwood to care for women and children that are experiencing homelessness\, poverty\, addiction and domestic violence. Each Christmas season\, individuals and companies join together to grant Christmas wishes to our women and children. This holiday\, checkout our website to see how you can become a Christmas angel to those in need &ndash\; <a href="http://www.shepherdsgate.org/christmas">www.shepherdsgate.org/christmas</a>. &nbsp\;Gifts will need to be delivered by <strong>December 17th</strong> to either the Brentwood Campus at <span style="color:#4472C4">605 Sycamore Ave\, Brentwood\, CA 94513 </span>or the Livermore Campus at <span style="color:#4472C4">1660 Portola Avenue\, Livermore\, CA 94551.</span>
LOCATION:Shepherd's Gate 1660 Portola Avenue Livermore\, CA 94551
UID:e.3178.3616
SEQUENCE:3
DTSTAMP:20260425T012815Z
URL:http://livermorevalley.chambermaster.com/events/details/2020-shepherd-s-gate-holiday-programs-3616
END:VEVENT

END:VCALENDAR
