BEGIN:VCALENDAR
VERSION:2.0
PRODID:-//ChamberMaster//Event Calendar 2.0//EN
METHOD:PUBLISH
X-PUBLISHED-TTL:P3D
REFRESH-INTERVAL:P3D
CALSCALE:GREGORIAN
BEGIN:VEVENT
DTSTART;VALUE=DATE:20201130
DTEND;VALUE=DATE:20201201
TRANSP:TRANSPARENT
X-MICROSOFT-CDO-ALLDAYEVENT:TRUE
SUMMARY:Shepherd's Gate Van Fundraiser
DESCRIPTION:Gear up for Giving Tuesday\, December 1st  and help Shepherd's Gate raise $26\,000 for a new\, used van to help our women & children on their road to freedom. Be a part of their journey to success by visiting  https://www.justgiving.com/campaign/vanforSG.  For the entire month of December\, you can contribute\, share this fundraiser with others and even start you own fundraiser.  Any support you can give will make a tremendous difference in the lives of our women & children.
X-ALT-DESC;FMTTYPE=text/html:Gear up for Giving Tuesday\, December 1<sup>st</sup> &nbsp\;and help Shepherd&rsquo\;s Gate raise $26\,000 for a new\, used van to help our women &amp\; children on their road to freedom. Be a part of their journey to success by visiting &nbsp\;<a href="https://www.justgiving.com/campaign/vanforSG">https://www.justgiving.com/campaign/vanforSG</a>.&nbsp\; For the entire month of December\, you can contribute\, share this fundraiser with others and even start you own fundraiser.&nbsp\; Any support you can give will make a tremendous difference in the lives of our women &amp\; children.
LOCATION:
UID:e.3178.3385
SEQUENCE:3
DTSTAMP:20260425T152006Z
URL:http://livermorevalley.chambermaster.com/events/details/shepherd-s-gate-van-fundraiser-3385
END:VEVENT

END:VCALENDAR
